BEGIN:VCALENDAR
VERSION:2.0
METHOD:PUBLISH
PRODID:-//ActiveDataExchange/NEXTGEN V1//EN
BEGIN:VEVENT
ORGANIZER:mailto:lyoussef@endicott.edu
DTSTART:20260503T180000Z
DTEND:20260503T190000Z
DTSTAMP:20260419T185543Z
LOCATION:Rose Theater 406 Hale Street Beverly MA 01915
SUMMARY:Percussion &amp; Chamber Ensemble in Concert
DESCRIPTION:Chamber &amp;amp; Percussion Ensembles showcase talented student
 s, eclectic instruments, and original works—an unforgettabl
 e concert.\nView the full event details here: https://events.endicott.edu/event/percussion--chamber-ensemble-in-concert/
CATEGORIES:Arts &amp; Culture, Performing Arts
CONTACT:Lisa,lyoussef@endicott.edu
CLASS:PUBLIC
UID:57F82B21-F86A-4E3E-A15B-F502CD914EE1
BEGIN:VALARM
TRIGGER:-PT15M
ACTION:DISPLAY
DESCRIPTION:Percussion &amp; Chamber Ensemble in Concert
END:VALARM
END:VEVENT
END:VCALENDAR
