BEGIN:VCALENDAR
VERSION:2.0
METHOD:PUBLISH
PRODID:-//ActiveDataExchange/NEXTGEN V1//EN
BEGIN:VEVENT
ORGANIZER:mailto:lyoussef@endicott.edu
DTSTART:20260504T233000Z
DTEND:20260505T003000Z
DTSTAMP:20260419T185603Z
LOCATION:Rose Theater 406 Hale Street Beverly MA 01915
SUMMARY:Solo Student Recital II
DESCRIPTION:An intimate recital of solo songs, music &amp;amp; monologues by
  voice, instrument &amp;amp; theater students, guided by expert
  faculty. Third and Fourth year students.\nView the full event details here: https://events.endicott.edu/event/solo-student-recital-ii/
CATEGORIES:Arts &amp; Culture, Performing Arts
CONTACT:Lisa,lyoussef@endicott.edu
CLASS:PUBLIC
UID:7B031DC1-1D62-4F7B-AA02-A4AD00A77484
BEGIN:VALARM
TRIGGER:-PT15M
ACTION:DISPLAY
DESCRIPTION:Solo Student Recital II
END:VALARM
END:VEVENT
END:VCALENDAR
