BEGIN:VCALENDAR
VERSION:2.0
METHOD:PUBLISH
PRODID:-//ActiveDataExchange/NEXTGEN V1//EN
BEGIN:VEVENT
ORGANIZER:mailto:lyoussef@endicott.edu
DTSTART:20260502T180000Z
DTEND:20260502T193000Z
DTSTAMP:20260419T185543Z
LOCATION:Rose Theater 406 Hale Street Beverly MA 01915
SUMMARY:Endicott Singers present POPS - Love Songs   
DESCRIPTION:Endicott Singers’ Pops is back! This year’s student-chosen t
 heme is Love—featuring choirs, solos, live combo, coffee &amp;a
 mp; treats.\nView the full event details here: https://events.endicott.edu/site/manninen/event/endicott-singers-present-pops---love-songs-1/
CATEGORIES:Arts &amp; Culture, Performing Arts
CONTACT:Lisa Youssef,lyoussef@endicott.edu
CLASS:PUBLIC
UID:0270A382-E974-4B61-AB22-2E242F6D75B2
BEGIN:VALARM
TRIGGER:-PT15M
ACTION:DISPLAY
DESCRIPTION:Endicott Singers present POPS - Love Songs   
END:VALARM
END:VEVENT
END:VCALENDAR
