BEGIN:VCALENDAR
VERSION:2.0
METHOD:PUBLISH
PRODID:-//ActiveDataExchange/NEXTGEN V1//EN
BEGIN:VEVENT
ORGANIZER:mailto:lyoussef@endicott.edu
DTSTART:20260428T210000Z
DTEND:20260428T220000Z
DTSTAMP:20260419T185505Z
LOCATION:Rose Theater 406 Hale Street Beverly MA 01915
SUMMARY:Performing Arts Capstone Recital 
DESCRIPTION:Join the Bachelor in Performing Arts Class of 2026 as they s
 howcase their year-long efforts in Capstone work. The six m
 ajors have focused in music, dance, and theater and have ex
 plored universal themes using these disciplines as their ar
 tistic vehicle.\nView the full event details here: https://events.endicott.edu/site/manninen/event/performing-arts-capstone-recital/
CATEGORIES:Arts &amp; Culture, Performing Arts
CONTACT:Lisa Youssef,lyoussef@endicott.edu
CLASS:PUBLIC
UID:3AB0FC4C-0901-41B0-B757-D86C967D3805
BEGIN:VALARM
TRIGGER:-PT15M
ACTION:DISPLAY
DESCRIPTION:Performing Arts Capstone Recital 
END:VALARM
END:VEVENT
END:VCALENDAR
