BEGIN:VCALENDAR
VERSION:2.0
METHOD:PUBLISH
PRODID:-//ActiveDataExchange/NEXTGEN V1//EN
BEGIN:VEVENT
ORGANIZER:mailto:lyoussef@endicott.edu
DTSTART:20260426T170000Z
DTEND:20260426T180000Z
DTSTAMP:20260419T185846Z
LOCATION:Rose Theater 406 Hale Street Beverly MA 01915
SUMMARY:Repertory Dance Ensemble Presents: Guest Choreography Series XVI
DESCRIPTION:Experience the Repertory Dance Ensemble performing works by 
 faculty and guest choreographers—celebrating the versatilit
 y of our dance program.\nView the full event details here: https://events.endicott.edu/site/manninen/event/repertory-dance-ensemble-presents-guest-choreography-series-xvi-1/
CATEGORIES:Dance, Performing Arts
CONTACT:Lisa Youssef,lyoussef@endicott.edu
CLASS:PUBLIC
UID:2D18CC0F-291F-4918-987E-0D2B4FB9B6B3
BEGIN:VALARM
TRIGGER:-PT15M
ACTION:DISPLAY
DESCRIPTION:Repertory Dance Ensemble Presents: Guest Choreography Series XVI
END:VALARM
END:VEVENT
END:VCALENDAR
