BEGIN:VCALENDAR
VERSION:2.0
METHOD:PUBLISH
PRODID:-//ActiveDataExchange/NEXTGEN V1//EN
BEGIN:VEVENT
ORGANIZER:mailto:lyoussef@endicott.edu
DTSTART:20260501T190000Z
DTEND:20260501T200000Z
DTSTAMP:20260419T185652Z
LOCATION:Rose Theater 406 Hale Street Beverly MA 01915
SUMMARY:Senior Capstone &amp; Thesis Exhibition: Class of 2026
DESCRIPTION:Join us as we celebrate the exceptional work of our graduati
 ng seniors! All Endicott galleries will showcase senior pro
 jects from across the School of Visual and Performing Arts.
  Experience the creativity, innovation, and dedication that
  define the Class of 2026.\nView the full event details here: https://events.endicott.edu/site/manninen/event/senior-capstone--thesis-exhibition-class-of-2026/
CATEGORIES:Arts &amp; Culture
CONTACT:Lisa Youssef,lyoussef@endicott.edu
CLASS:PUBLIC
UID:FDCA2266-2FCD-474A-9941-9E0967FD2481
BEGIN:VALARM
TRIGGER:-PT15M
ACTION:DISPLAY
DESCRIPTION:Senior Capstone &amp; Thesis Exhibition: Class of 2026
END:VALARM
END:VEVENT
END:VCALENDAR
